Workbook

Sheet Sheet1
A1: 附件2
A2: 中央困难群众救助补助资金转移支付区域绩效目标自评表
A3: （2022年度）
A4: 转移支付（项目）名称 | D4: 困难群众救助补助资金
A5: 中央主管部门 | D5: 民政部
A6: 地方主管部门 | D6: 泸定县民政局 | F6: 资金使用单位 | G6: 泸定县民政局
A7: 资金投入情况 （万元） | E7: 全年预算数（A） | F7: 全年执行数（B） | H7: 预算执行率（B/A×100%)
D8: 年度资金总额： | E8: =SUM(E9:E13) -> 1598.54 | F8: =SUM(F9:G13) -> 1582.88 | H8: =F8/E8*100% -> 0.99020356
D9: 其中：中央财政资金 | E9: 966.69 | F9: 966.69 | H9: =F9/E9*100% -> 1
D10: 省级 | E10: =[1]特困!E10+[1]低保金!E10+[1]临时救助金!E10+[1]流浪乞讨!E10+[1]孤儿!E10+[1]事实无人抚养!E10 -> 95.72 | F10: =E10 -> 95.72 | H10: =F10/E10*100% -> 1
D11: 州级 | E11: =[1]特困!E11+[1]低保金!E11+[1]临时救助金!E11+[1]流浪乞讨!E11+[1]孤儿!E11+[1]事实无人抚养!E11 -> 82.52 | F11: 82.52 | H11: =F11/E11*100% -> 1
D12: 县级 | E12: =[1]特困!E12+[1]低保金!E12+[1]临时救助金!E12+[1]流浪乞讨!E12+[1]孤儿!E12+[1]事实无人抚养!E12 -> 448.49 | F12: =+[1]特困!F12+[1]低保金!F12+[1]临时救助金!F12+[1]流浪乞讨!F12+[1]孤儿!F12+[1]事实无人抚养!F12 -> 436.43 | H12: =F12/E12*100% -> 0.97310977
D13: 其他资金 | E13: =[1]低保金!E13 -> 5.12 | F13: 1.52 | H13: =F13/E13*100% -> 0.296875
A14: 资金管理情况 | E14: 情况说明 | H14: 存在问题和改进措施
D15: 分配科学性 | E15: 困难群众救助补助资金是根据县上各类困难群众的人数，和资金缺少数进行分配。 | H15: 无
D16: 下达及时性 | E16: 资金到达财政后，第一时间分配到单位的预算一体化系统，单位每月及时通过一卡通系统发放到困难群众的银行卡中。 | H16: 无
D17: 拨付合规性 | E17: 资金全部从一卡通系统发放，确保资金发放按时发放到位 | H17: 无
D18: 使用规范性 | E18: 低保资金存放于专户，根据每月时间发放金额进行拨付，其他项目资金在预算一体化平台中，资金根据每月救助系统发放，受多方监管。 | H18: 无
D19: 执行准确性 | E19: 单位有着民政救助系统，体统中有救助人员名单，每月进行更新，确保发放资金准确。 | H19: 无
D20: 预算绩效管理情况 | E20: 单位在资金下达时会进行事前绩效评估，项目实施完成后，会对项目进行绩效自评，确保绩效目标的完成。 | H20: 无
D21: 支出责任履行情况 | E21: 资金每月按时发放到位，确保能够及时解决困难群众的困难。 | H21: 无
A22: 总体目标完成情况 | B22: 总体目标 | F22: 全年实际完成情况
B23: 规范城乡低保政策实施，合理确认保障标准，使低保对象基本生活得到保障，规范实施临时救助政策，实现即时高效，救急就难。 | F23: 规范城乡低保政策实施，合理确认保障标准，使低保对象基本生活得到保障，规范实施临时救助政策，实现即时高效，救急就难（目标顺利完成）。
A24: 绩效指标 | B24: 一级 指标 | C24: 二级指标 | D24: 三级指标 | F24: 指标值 | G24: 全年实际完成值 | H24: 未完成原因和改进措施
B25: 产 出 指 标 | C25: 数量指标 | D25: 低保对象人数 | F25: 应保尽保 | G25: =F25 -> 应保尽保 | H25: 无
D26: 临时救助人次 | F26: 应救尽救 | G26: =F26 -> 应救尽救 | H26: 无
D27: 孤儿、事实无人抚养儿童等纳入保障范围率 | F27: 大于90% | G27: =F27 -> 大于90% | H27: 无
C28: 质量指标 | D28: 城乡低保标准 | F28: 不低于上年 | G28: =F28 -> 不低于上年 | H28: 无
D29: 城乡特困人员救助供养标准 | F29: 不低于上年 | G29: =F29 -> 不低于上年 | H29: 无
D30: 孤儿、城乡低保等人员认定准确率 | F30: 大于90% | G30: =F30 -> 大于90% | H30: 无
C31: 时效指标 | D31: 困难群众基本生活救助和孤儿基本生活费按时发放率 | F31: 大于90% | G31: =F31 -> 大于90% | H31: 无
C34: 成本指标 | D34: 低保资金社会化发放率 | F34: 大于90% | G34: =F34 -> 大于90% | H34: 无
C37: ……
B38: 效 益 指 标 | C38: 经济效益 指标
C41: 社会效益 指标 | D41: 困难群众基本生活水平情况 | F41: 有所提升 | G41: =F41 -> 有所提升 | H41: 无
D42: 帮助查明身份滞留流浪乞讨人员返乡情况 | F42: 及时送返 | G42: =F42 -> 及时送返 | H42: 无
C44: 生态效益 指标
C47: 可持续影响指标 | D47: 困难群众基本生活救助和孤儿基本生活保障制度 | F47: 进一步完善 | G47: =F47 -> 进一步完善 | H47: 无
C50: ……
B51: 满意度指标 | C51: 服务对象 满意度指标 | D51: 受益对象满意度 | F51: 大于90% | G51: =F51 -> 大于90% | H51: 无
...
